BEGIN:VCALENDAR
VERSION:2.0
PRODID:-//pretix//pretix-PROD_Wien//
BEGIN:VEVENT
UID:pretix-baeder-doebling-5115@ticket.wien.gv.at
DTSTART;VALUE=DATE:20210624
DTEND;VALUE=DATE:20210625
DESCRIPTION:Tickets: https://ticket.wien.gv.at/baeder/doebling/5115/\nVeran
 stalter: MA 44 Wiener Bäder
DTSTAMP:20260420T230731Z
SUMMARY:Eintritt Döblinger Bad
END:VEVENT
END:VCALENDAR
