BEGIN:VCALENDAR
VERSION:2.0
PRODID:-//pretix//pretix-PROD_Wien//
BEGIN:VEVENT
UID:pretix-baeder-doebling-5029@ticket.wien.gv.at
DTSTART;VALUE=DATE:20210620
DTEND;VALUE=DATE:20210621
DESCRIPTION:Tickets: https://ticket.wien.gv.at/baeder/doebling/5029/\nVeran
 stalter: MA 44 Wiener Bäder
DTSTAMP:20260420T075837Z
SUMMARY:Eintritt Döblinger Bad
END:VEVENT
END:VCALENDAR
