BEGIN:VCALENDAR
VERSION:2.0
PRODID:-//pretix//pretix-PROD_Wien//
BEGIN:VEVENT
UID:pretix-baeder-doebling-4807@ticket.wien.gv.at
DTSTART;VALUE=DATE:20210610
DTEND;VALUE=DATE:20210611
DESCRIPTION:Tickets: https://ticket.wien.gv.at/baeder/doebling/4807/\nVeran
 stalter: MA 44 Wiener Bäder
DTSTAMP:20260420T185424Z
SUMMARY:Eintritt Döblinger Bad
END:VEVENT
END:VCALENDAR
