BEGIN:VCALENDAR
VERSION:2.0
PRODID:-//pretix//pretix-PROD_Wien//
BEGIN:VEVENT
UID:pretix-baeder-doebling-4544@ticket.wien.gv.at
DTSTART;VALUE=DATE:20210529
DTEND;VALUE=DATE:20210530
DESCRIPTION:Tickets: https://ticket.wien.gv.at/baeder/doebling/4544/\nVeran
 stalter: MA 44 Wiener Bäder
DTSTAMP:20260421T021746Z
SUMMARY:Eintritt Döblinger Bad
END:VEVENT
END:VCALENDAR
