BEGIN:VCALENDAR
VERSION:2.0
PRODID:-//pretix//pretix-PROD_Wien//
BEGIN:VEVENT
UID:pretix-baeder-doebling-4183@ticket.wien.gv.at
DTSTART;VALUE=DATE:20210513
DTEND;VALUE=DATE:20210514
DESCRIPTION:Tickets: https://ticket.wien.gv.at/baeder/doebling/4183/\nVeran
 stalter: MA 44 Wiener Bäder
DTSTAMP:20260421T204512Z
SUMMARY:Badegäste
END:VEVENT
END:VCALENDAR
