BEGIN:VCALENDAR
VERSION:2.0
PRODID:-//pretix//pretix-PROD_Wien//
BEGIN:VEVENT
UID:pretix-baeder-brigittenau-77308@ticket.wien.gv.at
DTSTART;VALUE=DATE:20260122
DTEND;VALUE=DATE:20260123
DESCRIPTION:Tickets: https://ticket.wien.gv.at/baeder/brigittenau/77308/\nV
 eranstalter: MA 44 Wiener Bäder
DTSTAMP:20260425T205625Z
SUMMARY:Badegäste Do.
END:VEVENT
END:VCALENDAR
