BEGIN:VCALENDAR
VERSION:2.0
PRODID:-//pretix//pretix-PROD_Wien//
BEGIN:VEVENT
UID:pretix-baeder-brigittenau-72804@ticket.wien.gv.at
DTSTART;VALUE=DATE:20251020
DTEND;VALUE=DATE:20251021
DESCRIPTION:Tickets: https://ticket.wien.gv.at/baeder/brigittenau/72804/\nV
 eranstalter: MA 44 Wiener Bäder
DTSTAMP:20260425T161936Z
SUMMARY:Badegäste Mo.
END:VEVENT
END:VCALENDAR
