BEGIN:VCALENDAR
VERSION:2.0
PRODID:-//pretix//pretix-PROD_Wien//
BEGIN:VEVENT
UID:pretix-baeder-angelibad-6236@ticket.wien.gv.at
DTSTART;VALUE=DATE:20210814
DTEND;VALUE=DATE:20210815
DESCRIPTION:Tickets: https://ticket.wien.gv.at/baeder/angelibad/6236/\nVera
 nstalter: MA 44 Wiener Bäder
DTSTAMP:20260425T190856Z
SUMMARY:Eintritt Angelibad
END:VEVENT
END:VCALENDAR
