BEGIN:VCALENDAR
VERSION:2.0
PRODID:-//pretix//pretix-PROD_Wien//
BEGIN:VEVENT
UID:pretix-baeder-angelibad-6061@ticket.wien.gv.at
DTSTART;VALUE=DATE:20210806
DTEND;VALUE=DATE:20210807
DESCRIPTION:Tickets: https://ticket.wien.gv.at/baeder/angelibad/6061/\nVera
 nstalter: MA 44 Wiener Bäder
DTSTAMP:20260425T202631Z
SUMMARY:Eintritt Angelibad
END:VEVENT
END:VCALENDAR
