BEGIN:VCALENDAR
VERSION:2.0
PRODID:-//pretix//pretix-PROD_Wien//
BEGIN:VEVENT
UID:pretix-baeder-angelibad-5665@ticket.wien.gv.at
DTSTART;VALUE=DATE:20210719
DTEND;VALUE=DATE:20210720
DESCRIPTION:Tickets: https://ticket.wien.gv.at/baeder/angelibad/5665/\nVera
 nstalter: MA 44 Wiener Bäder
DTSTAMP:20260425T174748Z
SUMMARY:Eintritt Angelibad
END:VEVENT
END:VCALENDAR
