BEGIN:VCALENDAR
VERSION:2.0
PRODID:-//pretix//pretix-PROD_Wien//
BEGIN:VEVENT
UID:pretix-baeder-angelibad-5555@ticket.wien.gv.at
DTSTART;VALUE=DATE:20210714
DTEND;VALUE=DATE:20210715
DESCRIPTION:Tickets: https://ticket.wien.gv.at/baeder/angelibad/5555/\nVera
 nstalter: MA 44 Wiener Bäder
DTSTAMP:20260425T190854Z
SUMMARY:Eintritt Angelibad
END:VEVENT
END:VCALENDAR
