BEGIN:VCALENDAR
VERSION:2.0
PRODID:-//pretix//pretix-PROD_Wien//
BEGIN:VEVENT
UID:pretix-baeder-angelibad-5509@ticket.wien.gv.at
DTSTART;VALUE=DATE:20210712
DTEND;VALUE=DATE:20210713
DESCRIPTION:Tickets: https://ticket.wien.gv.at/baeder/angelibad/5509/\nVera
 nstalter: MA 44 Wiener Bäder
DTSTAMP:20260425T202635Z
SUMMARY:Eintritt Angelibad
END:VEVENT
END:VCALENDAR
