BEGIN:VCALENDAR
VERSION:2.0
PRODID:-//pretix//pretix-PROD_Wien//
BEGIN:VEVENT
UID:pretix-baeder-angelibad-5467@ticket.wien.gv.at
DTSTART;VALUE=DATE:20210710
DTEND;VALUE=DATE:20210711
DESCRIPTION:Tickets: https://ticket.wien.gv.at/baeder/angelibad/5467/\nVera
 nstalter: MA 44 Wiener Bäder
DTSTAMP:20260425T163509Z
SUMMARY:Eintritt Angelibad
END:VEVENT
END:VCALENDAR
