BEGIN:VCALENDAR
VERSION:2.0
PRODID:-//pretix//pretix-PROD_Wien//
BEGIN:VEVENT
UID:pretix-baeder-angelibad-5355@ticket.wien.gv.at
DTSTART;VALUE=DATE:20210705
DTEND;VALUE=DATE:20210706
DESCRIPTION:Tickets: https://ticket.wien.gv.at/baeder/angelibad/5355/\nVera
 nstalter: MA 44 Wiener Bäder
DTSTAMP:20260425T154800Z
SUMMARY:Eintritt Angelibad
END:VEVENT
END:VCALENDAR
