BEGIN:VCALENDAR
VERSION:2.0
PRODID:-//pretix//pretix-PROD_Wien//
BEGIN:VEVENT
UID:pretix-baeder-angelibad-23438@ticket.wien.gv.at
DTSTART;VALUE=DATE:20220709
DTEND;VALUE=DATE:20220710
DESCRIPTION:Tickets: https://ticket.wien.gv.at/baeder/angelibad/23438/\nVer
 anstalter: MA 44 Wiener Bäder
DTSTAMP:20260425T170836Z
SUMMARY:Badegäste Freibad Sa/So
END:VEVENT
END:VCALENDAR
