BEGIN:VCALENDAR
VERSION:2.0
PRODID:-//pretix//pretix-PROD_Wien//
BEGIN:VEVENT
UID:pretix-baeder-angelibad-22653@ticket.wien.gv.at
DTSTART;VALUE=DATE:20220613
DTEND;VALUE=DATE:20220614
DESCRIPTION:Tickets: https://ticket.wien.gv.at/baeder/angelibad/22653/\nVer
 anstalter: MA 44 Wiener Bäder
DTSTAMP:20260425T163511Z
SUMMARY:Badegäste Freibad Mo-Fr
END:VEVENT
END:VCALENDAR
