BEGIN:VCALENDAR
VERSION:2.0
PRODID:-//pretix//pretix-PROD_Wien//
BEGIN:VEVENT
UID:pretix-baeder-angelibad-21588@ticket.wien.gv.at
DTSTART;VALUE=DATE:20220511
DTEND;VALUE=DATE:20220512
DESCRIPTION:Tickets: https://ticket.wien.gv.at/baeder/angelibad/21588/\nVer
 anstalter: MA 44 Wiener Bäder
DTSTAMP:20260425T170836Z
SUMMARY:Badegäste Freibad Mo-Fr
END:VEVENT
END:VCALENDAR
