BEGIN:VCALENDAR
VERSION:2.0
PRODID:-//pretix//pretix-PROD_Wien//
BEGIN:VEVENT
UID:pretix-baeder-amalienbad-80846@ticket.wien.gv.at
DTSTART;VALUE=DATE:20260426
DTEND;VALUE=DATE:20260427
DESCRIPTION:Tickets: https://ticket.wien.gv.at/baeder/amalienbad/80846/\nVe
 ranstalter: MA 44 Wiener Bäder
DTSTAMP:20260424T024924Z
SUMMARY:Badegäste Sonntag
END:VEVENT
END:VCALENDAR
