BEGIN:VCALENDAR
VERSION:2.0
PRODID:-//pretix//pretix-PROD_Wien//
BEGIN:VEVENT
UID:pretix-baeder-amalienbad-80834@ticket.wien.gv.at
DTSTART;VALUE=DATE:20260425
DTEND;VALUE=DATE:20260426
DESCRIPTION:Tickets: https://ticket.wien.gv.at/baeder/amalienbad/80834/\nVe
 ranstalter: MA 44 Wiener Bäder
DTSTAMP:20260423T162455Z
SUMMARY:Badegäste Samstag
END:VEVENT
END:VCALENDAR
