BEGIN:VCALENDAR
VERSION:2.0
PRODID:-//pretix//pretix-PROD_Wien//
BEGIN:VEVENT
UID:pretix-baeder-amalienbad-80775@ticket.wien.gv.at
DTSTART;VALUE=DATE:20260423
DTEND;VALUE=DATE:20260424
DESCRIPTION:Tickets: https://ticket.wien.gv.at/baeder/amalienbad/80775/\nVe
 ranstalter: MA 44 Wiener Bäder
DTSTAMP:20260421T030646Z
SUMMARY:Badegäste Donnerstag
END:VEVENT
END:VCALENDAR
