BEGIN:VCALENDAR
VERSION:2.0
PRODID:-//pretix//pretix-PROD_Wien//
BEGIN:VEVENT
UID:pretix-baeder-amalienbad-77310@ticket.wien.gv.at
DTSTART;VALUE=DATE:20260122
DTEND;VALUE=DATE:20260123
DESCRIPTION:Tickets: https://ticket.wien.gv.at/baeder/amalienbad/77310/\nVe
 ranstalter: MA 44 Wiener Bäder
DTSTAMP:20260420T222552Z
SUMMARY:Badegäste Donnerstag
END:VEVENT
END:VCALENDAR
