BEGIN:VCALENDAR
VERSION:2.0
PRODID:-//pretix//pretix-PROD_Wien//
BEGIN:VEVENT
UID:pretix-baeder-amalienbad-77247@ticket.wien.gv.at
DTSTART;VALUE=DATE:20260121
DTEND;VALUE=DATE:20260122
DESCRIPTION:Tickets: https://ticket.wien.gv.at/baeder/amalienbad/77247/\nVe
 ranstalter: MA 44 Wiener Bäder
DTSTAMP:20260421T123715Z
SUMMARY:Badegäste Mittwoch
END:VEVENT
END:VCALENDAR
