BEGIN:VCALENDAR
VERSION:2.0
PRODID:-//pretix//pretix-PROD_Wien//
BEGIN:VEVENT
UID:pretix-baeder-amalienbad-441@ticket.wien.gv.at
DTSTART;VALUE=DATE:20210213
DTEND;VALUE=DATE:20210214
DESCRIPTION:Tickets: https://ticket.wien.gv.at/baeder/amalienbad/441/\nVera
 nstalter: MA 44 Wiener Bäder
DTSTAMP:20260420T222551Z
SUMMARY:Badegäste
END:VEVENT
END:VCALENDAR
