BEGIN:VCALENDAR
VERSION:2.0
PRODID:-//pretix//pretix-PROD_Wien//
BEGIN:VEVENT
UID:pretix-baeder-amalienbad-3003@ticket.wien.gv.at
DTSTART;VALUE=DATE:20210307
DTEND;VALUE=DATE:20210308
DESCRIPTION:Tickets: https://ticket.wien.gv.at/baeder/amalienbad/3003/\nVer
 anstalter: MA 44 Wiener Bäder
DTSTAMP:20260421T041056Z
SUMMARY:Badegäste
END:VEVENT
END:VCALENDAR
