BEGIN:VCALENDAR
VERSION:2.0
PRODID:-//pretix//pretix-PROD_Wien//
BEGIN:VEVENT
UID:pretix-baeder-amalienbad-1592@ticket.wien.gv.at
DTSTART;VALUE=DATE:20210223
DTEND;VALUE=DATE:20210224
DESCRIPTION:Tickets: https://ticket.wien.gv.at/baeder/amalienbad/1592/\nVer
 anstalter: MA 44 Wiener Bäder
DTSTAMP:20260420T074759Z
SUMMARY:Badegäste
END:VEVENT
END:VCALENDAR
