BEGIN:VCALENDAR
VERSION:2.0
PRODID:-//pretix//pretix-PROD_Wien//
BEGIN:VEVENT
UID:pretix-baeder-altedonau-7068@ticket.wien.gv.at
DTSTART;VALUE=DATE:20210920
DTEND;VALUE=DATE:20210921
DESCRIPTION:Tickets: https://ticket.wien.gv.at/baeder/altedonau/7068/\nVera
 nstalter: MA 44 Wiener Bäder
DTSTAMP:20260420T015821Z
SUMMARY:Eintritt Strandbad Alte Donau
END:VEVENT
END:VCALENDAR
