BEGIN:VCALENDAR
VERSION:2.0
PRODID:-//pretix//pretix-PROD_Wien//
BEGIN:VEVENT
UID:pretix-baeder-altedonau-6980@ticket.wien.gv.at
DTSTART;VALUE=DATE:20210916
DTEND;VALUE=DATE:20210917
DESCRIPTION:Tickets: https://ticket.wien.gv.at/baeder/altedonau/6980/\nVera
 nstalter: MA 44 Wiener Bäder
DTSTAMP:20260420T053118Z
SUMMARY:Eintritt Strandbad Alte Donau
END:VEVENT
END:VCALENDAR
