BEGIN:VCALENDAR
VERSION:2.0
PRODID:-//pretix//pretix-PROD_Wien//
BEGIN:VEVENT
UID:pretix-baeder-altedonau-6848@ticket.wien.gv.at
DTSTART;VALUE=DATE:20210910
DTEND;VALUE=DATE:20210911
DESCRIPTION:Tickets: https://ticket.wien.gv.at/baeder/altedonau/6848/\nVera
 nstalter: MA 44 Wiener Bäder
DTSTAMP:20260420T103206Z
SUMMARY:Eintritt Strandbad Alte Donau
END:VEVENT
END:VCALENDAR
