BEGIN:VCALENDAR
VERSION:2.0
PRODID:-//pretix//pretix-PROD_Wien//
BEGIN:VEVENT
UID:pretix-baeder-altedonau-6804@ticket.wien.gv.at
DTSTART;VALUE=DATE:20210908
DTEND;VALUE=DATE:20210909
DESCRIPTION:Tickets: https://ticket.wien.gv.at/baeder/altedonau/6804/\nVera
 nstalter: MA 44 Wiener Bäder
DTSTAMP:20260420T103133Z
SUMMARY:Eintritt Strandbad Alte Donau
END:VEVENT
END:VCALENDAR
