BEGIN:VCALENDAR
VERSION:2.0
PRODID:-//pretix//pretix-PROD_Wien//
BEGIN:VEVENT
UID:pretix-baeder-altedonau-6606@ticket.wien.gv.at
DTSTART;VALUE=DATE:20210830
DTEND;VALUE=DATE:20210831
DESCRIPTION:Tickets: https://ticket.wien.gv.at/baeder/altedonau/6606/\nVera
 nstalter: MA 44 Wiener Bäder
DTSTAMP:20260420T231602Z
SUMMARY:Eintritt Strandbad Alte Donau
END:VEVENT
END:VCALENDAR
