BEGIN:VCALENDAR
VERSION:2.0
PRODID:-//pretix//pretix-PROD_Wien//
BEGIN:VEVENT
UID:pretix-baeder-altedonau-6496@ticket.wien.gv.at
DTSTART;VALUE=DATE:20210825
DTEND;VALUE=DATE:20210826
DESCRIPTION:Tickets: https://ticket.wien.gv.at/baeder/altedonau/6496/\nVera
 nstalter: MA 44 Wiener Bäder
DTSTAMP:20260421T005756Z
SUMMARY:Eintritt Strandbad Alte Donau
END:VEVENT
END:VCALENDAR
