BEGIN:VCALENDAR
VERSION:2.0
PRODID:-//pretix//pretix-PROD_Wien//
BEGIN:VEVENT
UID:pretix-baeder-altedonau-6056@ticket.wien.gv.at
DTSTART;VALUE=DATE:20210805
DTEND;VALUE=DATE:20210806
DESCRIPTION:Tickets: https://ticket.wien.gv.at/baeder/altedonau/6056/\nVera
 nstalter: MA 44 Wiener Bäder
DTSTAMP:20260421T023923Z
SUMMARY:Eintritt Strandbad Alte Donau
END:VEVENT
END:VCALENDAR
