BEGIN:VCALENDAR
VERSION:2.0
PRODID:-//pretix//pretix-PROD_Wien//
BEGIN:VEVENT
UID:pretix-baeder-altedonau-5968@ticket.wien.gv.at
DTSTART;VALUE=DATE:20210801
DTEND;VALUE=DATE:20210802
DESCRIPTION:Tickets: https://ticket.wien.gv.at/baeder/altedonau/5968/\nVera
 nstalter: MA 44 Wiener Bäder
DTSTAMP:20260421T041239Z
SUMMARY:Eintritt Strandbad Alte Donau
END:VEVENT
END:VCALENDAR
