BEGIN:VCALENDAR
VERSION:2.0
PRODID:-//pretix//pretix-PROD_Wien//
BEGIN:VEVENT
UID:pretix-baeder-altedonau-5747@ticket.wien.gv.at
DTSTART;VALUE=DATE:20210722
DTEND;VALUE=DATE:20210723
DESCRIPTION:Tickets: https://ticket.wien.gv.at/baeder/altedonau/5747/\nVera
 nstalter: MA 44 Wiener Bäder
DTSTAMP:20260421T060143Z
SUMMARY:Eintritt Strandbad Alte Donau
END:VEVENT
END:VCALENDAR
