BEGIN:VCALENDAR
VERSION:2.0
PRODID:-//pretix//pretix-PROD_Wien//
BEGIN:VEVENT
UID:pretix-baeder-altedonau-5440@ticket.wien.gv.at
DTSTART;VALUE=DATE:20210708
DTEND;VALUE=DATE:20210709
DESCRIPTION:Tickets: https://ticket.wien.gv.at/baeder/altedonau/5440/\nVera
 nstalter: MA 44 Wiener Bäder
DTSTAMP:20260421T093024Z
SUMMARY:Eintritt Strandbad Alte Donau
END:VEVENT
END:VCALENDAR
