BEGIN:VCALENDAR
VERSION:2.0
PRODID:-//pretix//pretix-PROD_Wien//
BEGIN:VEVENT
UID:pretix-baeder-altedonau-4668@ticket.wien.gv.at
DTSTART;VALUE=DATE:20210603
DTEND;VALUE=DATE:20210604
DESCRIPTION:Tickets: https://ticket.wien.gv.at/baeder/altedonau/4668/\nVera
 nstalter: MA 44 Wiener Bäder
DTSTAMP:20260421T190847Z
SUMMARY:Eintritt Strandbad Alte Donau
END:VEVENT
END:VCALENDAR
