BEGIN:VCALENDAR
VERSION:2.0
PRODID:-//pretix//pretix-PROD_Wien//
BEGIN:VEVENT
UID:pretix-baeder-altedonau-4624@ticket.wien.gv.at
DTSTART;VALUE=DATE:20210601
DTEND;VALUE=DATE:20210602
DESCRIPTION:Tickets: https://ticket.wien.gv.at/baeder/altedonau/4624/\nVera
 nstalter: MA 44 Wiener Bäder
DTSTAMP:20260421T190846Z
SUMMARY:Eintritt Strandbad Alte Donau
END:VEVENT
END:VCALENDAR
