BEGIN:VCALENDAR
VERSION:2.0
PRODID:-//pretix//pretix-PROD_Wien//
BEGIN:VEVENT
UID:pretix-baeder-altedonau-4380@ticket.wien.gv.at
DTSTART;VALUE=DATE:20210521
DTEND;VALUE=DATE:20210522
DESCRIPTION:Tickets: https://ticket.wien.gv.at/baeder/altedonau/4380/\nVera
 nstalter: MA 44 Wiener Bäder
DTSTAMP:20260421T222058Z
SUMMARY:Eintritt Strandbad Alte Donau
END:VEVENT
END:VCALENDAR
