BEGIN:VCALENDAR
VERSION:2.0
PRODID:-//pretix//pretix-PROD_Wien//
BEGIN:VEVENT
UID:pretix-baeder-altedonau-4263@ticket.wien.gv.at
DTSTART;VALUE=DATE:20210515
DTEND;VALUE=DATE:20210516
DESCRIPTION:Tickets: https://ticket.wien.gv.at/baeder/altedonau/4263/\nVera
 nstalter: MA 44 Wiener Bäder
DTSTAMP:20260422T000121Z
SUMMARY:Saturday
END:VEVENT
END:VCALENDAR
