BEGIN:VCALENDAR
VERSION:2.0
PRODID:-//pretix//pretix-PROD_Wien//
BEGIN:VTIMEZONE
TZID:Europe/Vienna
BEGIN:STANDARD
DTSTART:20001029T030000
RRULE:FREQ=YEARLY;BYDAY=-1SU;BYMONTH=10
TZNAME:CET
TZOFFSETFROM:+0200
TZOFFSETTO:+0100
END:STANDARD
BEGIN:DAYLIGHT
DTSTART:20000326T020000
RRULE:FREQ=YEARLY;BYDAY=-1SU;BYMONTH=3
TZNAME:CEST
TZOFFSETFROM:+0100
TZOFFSETTO:+0200
END:DAYLIGHT
END:VTIMEZONE
BEGIN:VEVENT
UID:pretix-STS-n8sdl-75979@ticket.wien.gv.at
DTSTART;TZID=Europe/Vienna:20260316T130000
DESCRIPTION:Tickets: https://ticket.wien.gv.at/STS/n8sdl/75979/\nEinlass: 1
 6.03.2026 12:50\nVeranstalter: Stadtservice Wien
DTSTAMP:20260420T045343Z
LOCATION:Stadtinformation\, 1010 Wien\, Friedrich-Schmidt-Platz 1
SUMMARY:Rathausführung
END:VEVENT
END:VCALENDAR
