BEGIN:VCALENDAR
VERSION:2.0
PRODID:-//pretix//pretix-PROD_Wien//
BEGIN:VTIMEZONE
TZID:Europe/Vienna
BEGIN:STANDARD
DTSTART:20001029T030000
RRULE:FREQ=YEARLY;BYDAY=-1SU;BYMONTH=10
TZNAME:CET
TZOFFSETFROM:+0200
TZOFFSETTO:+0100
END:STANDARD
BEGIN:DAYLIGHT
DTSTART:20000326T020000
RRULE:FREQ=YEARLY;BYDAY=-1SU;BYMONTH=3
TZNAME:CEST
TZOFFSETFROM:+0100
TZOFFSETTO:+0200
END:DAYLIGHT
END:VTIMEZONE
BEGIN:VEVENT
UID:pretix-STS-n8sdl-77733@ticket.wien.gv.at
DTSTART;TZID=Europe/Vienna:20260330T130000
DESCRIPTION:Tickets: https://ticket.wien.gv.at/STS/n8sdl/77733/\nAdmission:
  2026-03-30 12:50\nOrganizer: Stadtservice Wien
DTSTAMP:20260420T201537Z
LOCATION:Stadtinformation\, 1010 Wien\, Friedrich-Schmidt-Platz 1
SUMMARY:City Hall Tour
END:VEVENT
BEGIN:VEVENT
UID:pretix-STS-n8sdl-75983@ticket.wien.gv.at
DTSTART;TZID=Europe/Vienna:20260401T130000
DESCRIPTION:Tickets: https://ticket.wien.gv.at/STS/n8sdl/75983/\nAdmission:
  2026-04-01 12:50\nOrganizer: Stadtservice Wien
DTSTAMP:20260420T201537Z
LOCATION:Stadtinformation\, 1010 Wien\, Friedrich-Schmidt-Platz 1
SUMMARY:City Hall Tour
END:VEVENT
BEGIN:VEVENT
UID:pretix-STS-n8sdl-75988@ticket.wien.gv.at
DTSTART;TZID=Europe/Vienna:20260413T130000
DESCRIPTION:Tickets: https://ticket.wien.gv.at/STS/n8sdl/75988/\nAdmission:
  2026-04-13 12:50\nOrganizer: Stadtservice Wien
DTSTAMP:20260420T201537Z
LOCATION:Stadtinformation\, 1010 Wien\, Friedrich-Schmidt-Platz 1
SUMMARY:City Hall Tour
END:VEVENT
BEGIN:VEVENT
UID:pretix-STS-n8sdl-75993@ticket.wien.gv.at
DTSTART;TZID=Europe/Vienna:20260424T130000
DESCRIPTION:Tickets: https://ticket.wien.gv.at/STS/n8sdl/75993/\nAdmission:
  2026-04-24 12:50\nOrganizer: Stadtservice Wien
DTSTAMP:20260420T201537Z
LOCATION:Stadtinformation\, 1010 Wien\, Friedrich-Schmidt-Platz 1
SUMMARY:City Hall Tour
END:VEVENT
BEGIN:VEVENT
UID:pretix-STS-n8sdl-79915@ticket.wien.gv.at
DTSTART;TZID=Europe/Vienna:20260504T130000
DESCRIPTION:Tickets: https://ticket.wien.gv.at/STS/n8sdl/79915/\nAdmission:
  2026-05-04 12:50\nOrganizer: Stadtservice Wien
DTSTAMP:20260420T201537Z
LOCATION:Stadtinformation\, 1010 Wien\, Friedrich-Schmidt-Platz 1
SUMMARY:City Hall Tour
END:VEVENT
BEGIN:VEVENT
UID:pretix-STS-n8sdl-79916@ticket.wien.gv.at
DTSTART;TZID=Europe/Vienna:20260506T130000
DESCRIPTION:Tickets: https://ticket.wien.gv.at/STS/n8sdl/79916/\nAdmission:
  2026-05-06 12:50\nOrganizer: Stadtservice Wien
DTSTAMP:20260420T201537Z
LOCATION:Stadtinformation\, 1010 Wien\, Friedrich-Schmidt-Platz 1
SUMMARY:City Hall Tour
END:VEVENT
BEGIN:VEVENT
UID:pretix-STS-n8sdl-79918@ticket.wien.gv.at
DTSTART;TZID=Europe/Vienna:20260511T130000
DESCRIPTION:Tickets: https://ticket.wien.gv.at/STS/n8sdl/79918/\nAdmission:
  2026-05-11 12:50\nOrganizer: Stadtservice Wien
DTSTAMP:20260420T201537Z
LOCATION:Stadtinformation\, 1010 Wien\, Friedrich-Schmidt-Platz 1
SUMMARY:City Hall Tour
END:VEVENT
BEGIN:VEVENT
UID:pretix-STS-n8sdl-79927@ticket.wien.gv.at
DTSTART;TZID=Europe/Vienna:20260601T130000
DESCRIPTION:Tickets: https://ticket.wien.gv.at/STS/n8sdl/79927/\nAdmission:
  2026-06-01 12:50\nOrganizer: Stadtservice Wien
DTSTAMP:20260420T201537Z
LOCATION:Stadtinformation\, 1010 Wien\, Friedrich-Schmidt-Platz 1
SUMMARY:City Hall Tour
END:VEVENT
BEGIN:VEVENT
UID:pretix-STS-n8sdl-79929@ticket.wien.gv.at
DTSTART;TZID=Europe/Vienna:20260605T130000
DESCRIPTION:Tickets: https://ticket.wien.gv.at/STS/n8sdl/79929/\nAdmission:
  2026-06-05 12:50\nOrganizer: Stadtservice Wien
DTSTAMP:20260420T201537Z
LOCATION:Stadtinformation\, 1010 Wien\, Friedrich-Schmidt-Platz 1
SUMMARY:City Hall Tour
END:VEVENT
BEGIN:VEVENT
UID:pretix-STS-n8sdl-79930@ticket.wien.gv.at
DTSTART;TZID=Europe/Vienna:20260608T130000
DESCRIPTION:Tickets: https://ticket.wien.gv.at/STS/n8sdl/79930/\nAdmission:
  2026-06-08 12:50\nOrganizer: Stadtservice Wien
DTSTAMP:20260420T201537Z
LOCATION:Stadtinformation\, 1010 Wien\, Friedrich-Schmidt-Platz 1
SUMMARY:City Hall Tour
END:VEVENT
BEGIN:VEVENT
UID:pretix-STS-n8sdl-79931@ticket.wien.gv.at
DTSTART;TZID=Europe/Vienna:20260610T130000
DESCRIPTION:Tickets: https://ticket.wien.gv.at/STS/n8sdl/79931/\nAdmission:
  2026-06-10 12:50\nOrganizer: Stadtservice Wien
DTSTAMP:20260420T201537Z
LOCATION:Stadtinformation\, 1010 Wien\, Friedrich-Schmidt-Platz 1
SUMMARY:City Hall Tour
END:VEVENT
BEGIN:VEVENT
UID:pretix-STS-n8sdl-79934@ticket.wien.gv.at
DTSTART;TZID=Europe/Vienna:20260617T130000
DESCRIPTION:Tickets: https://ticket.wien.gv.at/STS/n8sdl/79934/\nAdmission:
  2026-06-17 12:50\nOrganizer: Stadtservice Wien
DTSTAMP:20260420T201537Z
LOCATION:Stadtinformation\, 1010 Wien\, Friedrich-Schmidt-Platz 1
SUMMARY:City Hall Tour
END:VEVENT
BEGIN:VEVENT
UID:pretix-STS-n8sdl-79935@ticket.wien.gv.at
DTSTART;TZID=Europe/Vienna:20260619T130000
DESCRIPTION:Tickets: https://ticket.wien.gv.at/STS/n8sdl/79935/\nAdmission:
  2026-06-19 12:50\nOrganizer: Stadtservice Wien
DTSTAMP:20260420T201537Z
LOCATION:Stadtinformation\, 1010 Wien\, Friedrich-Schmidt-Platz 1
SUMMARY:City Hall Tour
END:VEVENT
BEGIN:VEVENT
UID:pretix-STS-n8sdl-79937@ticket.wien.gv.at
DTSTART;TZID=Europe/Vienna:20260624T130000
DESCRIPTION:Tickets: https://ticket.wien.gv.at/STS/n8sdl/79937/\nAdmission:
  2026-06-24 12:50\nOrganizer: Stadtservice Wien
DTSTAMP:20260420T201537Z
LOCATION:Stadtinformation\, 1010 Wien\, Friedrich-Schmidt-Platz 1
SUMMARY:City Hall Tour
END:VEVENT
BEGIN:VEVENT
UID:pretix-STS-n8sdl-79939@ticket.wien.gv.at
DTSTART;TZID=Europe/Vienna:20260629T130000
DESCRIPTION:Tickets: https://ticket.wien.gv.at/STS/n8sdl/79939/\nAdmission:
  2026-06-29 12:50\nOrganizer: Stadtservice Wien
DTSTAMP:20260420T201537Z
LOCATION:Stadtinformation\, 1010 Wien\, Friedrich-Schmidt-Platz 1
SUMMARY:City Hall Tour
END:VEVENT
END:VCALENDAR
