BEGIN:VCALENDAR
VERSION:2.0
PRODID:-//pretix//pretix-PROD_Wien//
BEGIN:VTIMEZONE
TZID:Europe/Vienna
BEGIN:STANDARD
DTSTART:20001029T030000
RRULE:FREQ=YEARLY;BYDAY=-1SU;BYMONTH=10
TZNAME:CET
TZOFFSETFROM:+0200
TZOFFSETTO:+0100
END:STANDARD
BEGIN:DAYLIGHT
DTSTART:20000326T020000
RRULE:FREQ=YEARLY;BYDAY=-1SU;BYMONTH=3
TZNAME:CEST
TZOFFSETFROM:+0100
TZOFFSETTO:+0200
END:DAYLIGHT
END:VTIMEZONE
BEGIN:VEVENT
UID:pretix-STS-n8sdl-77733@ticket.wien.gv.at
DTSTART;TZID=Europe/Vienna:20260330T130000
DESCRIPTION:Tickets: https://ticket.wien.gv.at/STS/n8sdl/77733/\nEinlass: 3
 0.03.2026 12:50\nVeranstalter: Stadtservice Wien
DTSTAMP:20260425T172959Z
LOCATION:Stadtinformation\, 1010 Wien\, Friedrich-Schmidt-Platz 1
SUMMARY:Rathausführung
END:VEVENT
BEGIN:VEVENT
UID:pretix-STS-n8sdl-75983@ticket.wien.gv.at
DTSTART;TZID=Europe/Vienna:20260401T130000
DESCRIPTION:Tickets: https://ticket.wien.gv.at/STS/n8sdl/75983/\nEinlass: 0
 1.04.2026 12:50\nVeranstalter: Stadtservice Wien
DTSTAMP:20260425T172959Z
LOCATION:Stadtinformation\, 1010 Wien\, Friedrich-Schmidt-Platz 1
SUMMARY:Rathausführung
END:VEVENT
BEGIN:VEVENT
UID:pretix-STS-n8sdl-75988@ticket.wien.gv.at
DTSTART;TZID=Europe/Vienna:20260413T130000
DESCRIPTION:Tickets: https://ticket.wien.gv.at/STS/n8sdl/75988/\nEinlass: 1
 3.04.2026 12:50\nVeranstalter: Stadtservice Wien
DTSTAMP:20260425T172959Z
LOCATION:Stadtinformation\, 1010 Wien\, Friedrich-Schmidt-Platz 1
SUMMARY:Rathausführung
END:VEVENT
BEGIN:VEVENT
UID:pretix-STS-n8sdl-75993@ticket.wien.gv.at
DTSTART;TZID=Europe/Vienna:20260424T130000
DESCRIPTION:Tickets: https://ticket.wien.gv.at/STS/n8sdl/75993/\nEinlass: 2
 4.04.2026 12:50\nVeranstalter: Stadtservice Wien
DTSTAMP:20260425T172959Z
LOCATION:Stadtinformation\, 1010 Wien\, Friedrich-Schmidt-Platz 1
SUMMARY:Rathausführung
END:VEVENT
BEGIN:VEVENT
UID:pretix-STS-n8sdl-79915@ticket.wien.gv.at
DTSTART;TZID=Europe/Vienna:20260504T130000
DESCRIPTION:Tickets: https://ticket.wien.gv.at/STS/n8sdl/79915/\nEinlass: 0
 4.05.2026 12:50\nVeranstalter: Stadtservice Wien
DTSTAMP:20260425T172959Z
LOCATION:Stadtinformation\, 1010 Wien\, Friedrich-Schmidt-Platz 1
SUMMARY:Rathausführung
END:VEVENT
BEGIN:VEVENT
UID:pretix-STS-n8sdl-79916@ticket.wien.gv.at
DTSTART;TZID=Europe/Vienna:20260506T130000
DESCRIPTION:Tickets: https://ticket.wien.gv.at/STS/n8sdl/79916/\nEinlass: 0
 6.05.2026 12:50\nVeranstalter: Stadtservice Wien
DTSTAMP:20260425T172959Z
LOCATION:Stadtinformation\, 1010 Wien\, Friedrich-Schmidt-Platz 1
SUMMARY:Rathausführung
END:VEVENT
BEGIN:VEVENT
UID:pretix-STS-n8sdl-79918@ticket.wien.gv.at
DTSTART;TZID=Europe/Vienna:20260511T130000
DESCRIPTION:Tickets: https://ticket.wien.gv.at/STS/n8sdl/79918/\nEinlass: 1
 1.05.2026 12:50\nVeranstalter: Stadtservice Wien
DTSTAMP:20260425T172959Z
LOCATION:Stadtinformation\, 1010 Wien\, Friedrich-Schmidt-Platz 1
SUMMARY:Rathausführung
END:VEVENT
BEGIN:VEVENT
UID:pretix-STS-n8sdl-79927@ticket.wien.gv.at
DTSTART;TZID=Europe/Vienna:20260601T130000
DESCRIPTION:Tickets: https://ticket.wien.gv.at/STS/n8sdl/79927/\nEinlass: 0
 1.06.2026 12:50\nVeranstalter: Stadtservice Wien
DTSTAMP:20260425T172959Z
LOCATION:Stadtinformation\, 1010 Wien\, Friedrich-Schmidt-Platz 1
SUMMARY:Rathausführung
END:VEVENT
BEGIN:VEVENT
UID:pretix-STS-n8sdl-79929@ticket.wien.gv.at
DTSTART;TZID=Europe/Vienna:20260605T130000
DESCRIPTION:Tickets: https://ticket.wien.gv.at/STS/n8sdl/79929/\nEinlass: 0
 5.06.2026 12:50\nVeranstalter: Stadtservice Wien
DTSTAMP:20260425T172959Z
LOCATION:Stadtinformation\, 1010 Wien\, Friedrich-Schmidt-Platz 1
SUMMARY:Rathausführung
END:VEVENT
BEGIN:VEVENT
UID:pretix-STS-n8sdl-79930@ticket.wien.gv.at
DTSTART;TZID=Europe/Vienna:20260608T130000
DESCRIPTION:Tickets: https://ticket.wien.gv.at/STS/n8sdl/79930/\nEinlass: 0
 8.06.2026 12:50\nVeranstalter: Stadtservice Wien
DTSTAMP:20260425T172959Z
LOCATION:Stadtinformation\, 1010 Wien\, Friedrich-Schmidt-Platz 1
SUMMARY:Rathausführung
END:VEVENT
BEGIN:VEVENT
UID:pretix-STS-n8sdl-79931@ticket.wien.gv.at
DTSTART;TZID=Europe/Vienna:20260610T130000
DESCRIPTION:Tickets: https://ticket.wien.gv.at/STS/n8sdl/79931/\nEinlass: 1
 0.06.2026 12:50\nVeranstalter: Stadtservice Wien
DTSTAMP:20260425T172959Z
LOCATION:Stadtinformation\, 1010 Wien\, Friedrich-Schmidt-Platz 1
SUMMARY:Rathausführung
END:VEVENT
BEGIN:VEVENT
UID:pretix-STS-n8sdl-79934@ticket.wien.gv.at
DTSTART;TZID=Europe/Vienna:20260617T130000
DESCRIPTION:Tickets: https://ticket.wien.gv.at/STS/n8sdl/79934/\nEinlass: 1
 7.06.2026 12:50\nVeranstalter: Stadtservice Wien
DTSTAMP:20260425T172959Z
LOCATION:Stadtinformation\, 1010 Wien\, Friedrich-Schmidt-Platz 1
SUMMARY:Rathausführung
END:VEVENT
BEGIN:VEVENT
UID:pretix-STS-n8sdl-79935@ticket.wien.gv.at
DTSTART;TZID=Europe/Vienna:20260619T130000
DESCRIPTION:Tickets: https://ticket.wien.gv.at/STS/n8sdl/79935/\nEinlass: 1
 9.06.2026 12:50\nVeranstalter: Stadtservice Wien
DTSTAMP:20260425T172959Z
LOCATION:Stadtinformation\, 1010 Wien\, Friedrich-Schmidt-Platz 1
SUMMARY:Rathausführung
END:VEVENT
BEGIN:VEVENT
UID:pretix-STS-n8sdl-79937@ticket.wien.gv.at
DTSTART;TZID=Europe/Vienna:20260624T130000
DESCRIPTION:Tickets: https://ticket.wien.gv.at/STS/n8sdl/79937/\nEinlass: 2
 4.06.2026 12:50\nVeranstalter: Stadtservice Wien
DTSTAMP:20260425T172959Z
LOCATION:Stadtinformation\, 1010 Wien\, Friedrich-Schmidt-Platz 1
SUMMARY:Rathausführung
END:VEVENT
BEGIN:VEVENT
UID:pretix-STS-n8sdl-79939@ticket.wien.gv.at
DTSTART;TZID=Europe/Vienna:20260629T130000
DESCRIPTION:Tickets: https://ticket.wien.gv.at/STS/n8sdl/79939/\nEinlass: 2
 9.06.2026 12:50\nVeranstalter: Stadtservice Wien
DTSTAMP:20260425T172959Z
LOCATION:Stadtinformation\, 1010 Wien\, Friedrich-Schmidt-Platz 1
SUMMARY:Rathausführung
END:VEVENT
BEGIN:VEVENT
UID:pretix-STS-n8sdl-80793@ticket.wien.gv.at
DTSTART;TZID=Europe/Vienna:20260703T130000
DESCRIPTION:Tickets: https://ticket.wien.gv.at/STS/n8sdl/80793/\nEinlass: 0
 3.07.2026 12:50\nVeranstalter: Stadtservice Wien
DTSTAMP:20260425T172959Z
LOCATION:Stadtinformation\, 1010 Wien\, Friedrich-Schmidt-Platz 1
SUMMARY:Rathausführung
END:VEVENT
BEGIN:VEVENT
UID:pretix-STS-n8sdl-80794@ticket.wien.gv.at
DTSTART;TZID=Europe/Vienna:20260706T130000
DESCRIPTION:Tickets: https://ticket.wien.gv.at/STS/n8sdl/80794/\nEinlass: 0
 6.07.2026 12:50\nVeranstalter: Stadtservice Wien
DTSTAMP:20260425T172959Z
LOCATION:Stadtinformation\, 1010 Wien\, Friedrich-Schmidt-Platz 1
SUMMARY:Rathausführung
END:VEVENT
BEGIN:VEVENT
UID:pretix-STS-n8sdl-80796@ticket.wien.gv.at
DTSTART;TZID=Europe/Vienna:20260710T130000
DESCRIPTION:Tickets: https://ticket.wien.gv.at/STS/n8sdl/80796/\nEinlass: 1
 0.07.2026 12:50\nVeranstalter: Stadtservice Wien
DTSTAMP:20260425T172959Z
LOCATION:Stadtinformation\, 1010 Wien\, Friedrich-Schmidt-Platz 1
SUMMARY:Rathausführung
END:VEVENT
BEGIN:VEVENT
UID:pretix-STS-n8sdl-80797@ticket.wien.gv.at
DTSTART;TZID=Europe/Vienna:20260713T130000
DESCRIPTION:Tickets: https://ticket.wien.gv.at/STS/n8sdl/80797/\nEinlass: 1
 3.07.2026 12:50\nVeranstalter: Stadtservice Wien
DTSTAMP:20260425T172959Z
LOCATION:Stadtinformation\, 1010 Wien\, Friedrich-Schmidt-Platz 1
SUMMARY:Rathausführung
END:VEVENT
BEGIN:VEVENT
UID:pretix-STS-n8sdl-80798@ticket.wien.gv.at
DTSTART;TZID=Europe/Vienna:20260715T130000
DESCRIPTION:Tickets: https://ticket.wien.gv.at/STS/n8sdl/80798/\nEinlass: 1
 5.07.2026 12:50\nVeranstalter: Stadtservice Wien
DTSTAMP:20260425T172959Z
LOCATION:Stadtinformation\, 1010 Wien\, Friedrich-Schmidt-Platz 1
SUMMARY:Rathausführung
END:VEVENT
BEGIN:VEVENT
UID:pretix-STS-n8sdl-80800@ticket.wien.gv.at
DTSTART;TZID=Europe/Vienna:20260720T130000
DESCRIPTION:Tickets: https://ticket.wien.gv.at/STS/n8sdl/80800/\nEinlass: 2
 0.07.2026 12:50\nVeranstalter: Stadtservice Wien
DTSTAMP:20260425T172959Z
LOCATION:Stadtinformation\, 1010 Wien\, Friedrich-Schmidt-Platz 1
SUMMARY:Rathausführung
END:VEVENT
BEGIN:VEVENT
UID:pretix-STS-n8sdl-80801@ticket.wien.gv.at
DTSTART;TZID=Europe/Vienna:20260722T130000
DESCRIPTION:Tickets: https://ticket.wien.gv.at/STS/n8sdl/80801/\nEinlass: 2
 2.07.2026 12:50\nVeranstalter: Stadtservice Wien
DTSTAMP:20260425T172959Z
LOCATION:Stadtinformation\, 1010 Wien\, Friedrich-Schmidt-Platz 1
SUMMARY:Rathausführung
END:VEVENT
BEGIN:VEVENT
UID:pretix-STS-n8sdl-80806@ticket.wien.gv.at
DTSTART;TZID=Europe/Vienna:20260819T130000
DESCRIPTION:Tickets: https://ticket.wien.gv.at/STS/n8sdl/80806/\nEinlass: 1
 9.08.2026 12:50\nVeranstalter: Stadtservice Wien
DTSTAMP:20260425T172959Z
LOCATION:Stadtinformation\, 1010 Wien\, Friedrich-Schmidt-Platz 1
SUMMARY:Rathausführung
END:VEVENT
BEGIN:VEVENT
UID:pretix-STS-n8sdl-80807@ticket.wien.gv.at
DTSTART;TZID=Europe/Vienna:20260821T130000
DESCRIPTION:Tickets: https://ticket.wien.gv.at/STS/n8sdl/80807/\nEinlass: 2
 1.08.2026 12:50\nVeranstalter: Stadtservice Wien
DTSTAMP:20260425T172959Z
LOCATION:Stadtinformation\, 1010 Wien\, Friedrich-Schmidt-Platz 1
SUMMARY:Rathausführung
END:VEVENT
BEGIN:VEVENT
UID:pretix-STS-n8sdl-80808@ticket.wien.gv.at
DTSTART;TZID=Europe/Vienna:20260824T130000
DESCRIPTION:Tickets: https://ticket.wien.gv.at/STS/n8sdl/80808/\nEinlass: 2
 4.08.2026 12:50\nVeranstalter: Stadtservice Wien
DTSTAMP:20260425T172959Z
LOCATION:Stadtinformation\, 1010 Wien\, Friedrich-Schmidt-Platz 1
SUMMARY:Rathausführung
END:VEVENT
BEGIN:VEVENT
UID:pretix-STS-n8sdl-80809@ticket.wien.gv.at
DTSTART;TZID=Europe/Vienna:20260826T130000
DESCRIPTION:Tickets: https://ticket.wien.gv.at/STS/n8sdl/80809/\nEinlass: 2
 6.08.2026 12:50\nVeranstalter: Stadtservice Wien
DTSTAMP:20260425T172959Z
LOCATION:Stadtinformation\, 1010 Wien\, Friedrich-Schmidt-Platz 1
SUMMARY:Rathausführung
END:VEVENT
BEGIN:VEVENT
UID:pretix-STS-n8sdl-80810@ticket.wien.gv.at
DTSTART;TZID=Europe/Vienna:20260828T130000
DESCRIPTION:Tickets: https://ticket.wien.gv.at/STS/n8sdl/80810/\nEinlass: 2
 8.08.2026 12:50\nVeranstalter: Stadtservice Wien
DTSTAMP:20260425T172959Z
LOCATION:Stadtinformation\, 1010 Wien\, Friedrich-Schmidt-Platz 1
SUMMARY:Rathausführung
END:VEVENT
END:VCALENDAR
