BEGIN:VCALENDAR
VERSION:2.0
PRODID:-//pretix//pretix-PROD_Wien//
BEGIN:VTIMEZONE
TZID:Europe/Vienna
BEGIN:STANDARD
DTSTART:20001029T030000
RRULE:FREQ=YEARLY;BYDAY=-1SU;BYMONTH=10
TZNAME:CET
TZOFFSETFROM:+0200
TZOFFSETTO:+0100
END:STANDARD
BEGIN:DAYLIGHT
DTSTART:20000326T020000
RRULE:FREQ=YEARLY;BYDAY=-1SU;BYMONTH=3
TZNAME:CEST
TZOFFSETFROM:+0100
TZOFFSETTO:+0200
END:DAYLIGHT
END:VTIMEZONE
BEGIN:VEVENT
UID:pretix-MDS-quanten-0@ticket.wien.gv.at
DTSTART;TZID=Europe/Vienna:20251106T163000
DTEND;TZID=Europe/Vienna:20251106T220000
DESCRIPTION:Tickets: https://ticket.wien.gv.at/MDS/quanten/\nVeranstalter: 
 Magistratsdirektion der Stadt Wien
DTSTAMP:20260423T092124Z
LOCATION:Rathaus Wien\, Festsaal\, (Lichtenfelsgasse 2\, 1010 Wien\, barrie
 refreier Zugang: Stiege 8)
SUMMARY:„Willkommen Quantenwelt“
END:VEVENT
END:VCALENDAR
