BEGIN:VCALENDAR
VERSION:2.0
PRODID:-//pretix//pretix-PROD_Wien//
BEGIN:VEVENT
UID:pretix-M68-S1-78767@ticket.wien.gv.at
DTSTART;VALUE=DATE:20260221
DESCRIPTION:Tickets: https://ticket.wien.gv.at/M68/S1/78767/\nVeranstalter:
  MA 68 Feuerwehr und Katastrophenschutz
DTSTAMP:20260425T224313Z
LOCATION:Zentralfeuerwache\, Am Hof 9-10\, 1010 Wien
SUMMARY:S1 Wachebesuch Zentralfeuerwache
END:VEVENT
END:VCALENDAR
