BEGIN:VCALENDAR
VERSION:2.0
PRODID:-//pretix//pretix-PROD_Wien//
BEGIN:VTIMEZONE
TZID:Europe/Vienna
BEGIN:STANDARD
DTSTART:20001029T030000
RRULE:FREQ=YEARLY;BYDAY=-1SU;BYMONTH=10
TZNAME:CET
TZOFFSETFROM:+0200
TZOFFSETTO:+0100
END:STANDARD
BEGIN:DAYLIGHT
DTSTART:20000326T020000
RRULE:FREQ=YEARLY;BYDAY=-1SU;BYMONTH=3
TZNAME:CEST
TZOFFSETFROM:+0100
TZOFFSETTO:+0200
END:DAYLIGHT
END:VTIMEZONE
BEGIN:VEVENT
UID:pretix-M35-vlcua-66496@ticket.wien.gv.at
DTSTART;TZID=Europe/Vienna:20260414T150000
DTEND;TZID=Europe/Vienna:20260414T190000
DESCRIPTION:Tickets: https://ticket.wien.gv.at/M35/vlcua/66496/\nEinlass: 1
 4.04.2026 14:40\nVeranstalter: Stadt  Wien - Einwanderung und Staatsbürge
 rschaft
DTSTAMP:20260423T200309Z
LOCATION:Festsaal der Berufsschule\, 1120 Wien\, Längenfeldgasse 13 – 15
SUMMARY:Erstinformationsveranstaltung für die österreichische Staatsbürg
 erschaft
END:VEVENT
END:VCALENDAR
