BEGIN:VCALENDAR
VERSION:2.0
PRODID:-//pretix//pretix-PROD_Wien//
BEGIN:VTIMEZONE
TZID:Europe/Vienna
BEGIN:STANDARD
DTSTART:20001029T030000
RRULE:FREQ=YEARLY;BYDAY=-1SU;BYMONTH=10
TZNAME:CET
TZOFFSETFROM:+0200
TZOFFSETTO:+0100
END:STANDARD
BEGIN:DAYLIGHT
DTSTART:20000326T020000
RRULE:FREQ=YEARLY;BYDAY=-1SU;BYMONTH=3
TZNAME:CEST
TZOFFSETFROM:+0100
TZOFFSETTO:+0200
END:DAYLIGHT
END:VTIMEZONE
BEGIN:VEVENT
UID:pretix-M18-gemma-zukunft-80844@ticket.wien.gv.at
DTSTART;TZID=Europe/Vienna:20260513T170000
DTEND;TZID=Europe/Vienna:20260513T190000
DESCRIPTION:Tickets: https://ticket.wien.gv.at/M18/gemma-zukunft/80844/\nVe
 ranstalter: MA 18 Stadtentwicklung und Stadtplanung
DTSTAMP:20260425T223856Z
LOCATION:Treffpunkt: vor der Wiener Staatsoper\, unter den Arkaden am Opern
 ring\, 1010 Wien\, Endpunkt: Rathausplatz\, ESC Village\, 1010 Wien
SUMMARY:“United by Music“ – Ein Spaziergang zwischen Glitzer und Alltag
END:VEVENT
END:VCALENDAR
