BEGIN:VCALENDAR
VERSION:2.0
PRODID:-//pretix//pretix-PROD_Wien//
BEGIN:VTIMEZONE
TZID:Europe/Vienna
BEGIN:STANDARD
DTSTART:20001029T030000
RRULE:FREQ=YEARLY;BYDAY=-1SU;BYMONTH=10
TZNAME:CET
TZOFFSETFROM:+0200
TZOFFSETTO:+0100
END:STANDARD
BEGIN:DAYLIGHT
DTSTART:20000326T020000
RRULE:FREQ=YEARLY;BYDAY=-1SU;BYMONTH=3
TZNAME:CEST
TZOFFSETFROM:+0100
TZOFFSETTO:+0200
END:DAYLIGHT
END:VTIMEZONE
BEGIN:VEVENT
UID:pretix-M18-gemma-zukunft-77090@ticket.wien.gv.at
DTSTART;TZID=Europe/Vienna:20260123T153000
DTEND;TZID=Europe/Vienna:20260123T163000
DESCRIPTION:Tickets: https://ticket.wien.gv.at/M18/gemma-zukunft/77090/\nVe
 ranstalter: MA 18 Stadtentwicklung und Stadtplanung
DTSTAMP:20260425T180203Z
LOCATION:Treffpunkt: Wien Museum\, Karlsplatz 8\, 1040 Wien - im Foyer ca. 
 5 Minuten vor Beginn
SUMMARY:Stadt in Arbeit – Der große Umbau Wiens im 19. Jahrhundert und s
 eine Folgen
END:VEVENT
END:VCALENDAR
