BEGIN:VCALENDAR
VERSION:2.0
PRODID:-//pretix//pretix-PROD_Wien//
BEGIN:VTIMEZONE
TZID:Europe/Vienna
BEGIN:STANDARD
DTSTART:20001029T030000
RRULE:FREQ=YEARLY;BYDAY=-1SU;BYMONTH=10
TZNAME:CET
TZOFFSETFROM:+0200
TZOFFSETTO:+0100
END:STANDARD
BEGIN:DAYLIGHT
DTSTART:20000326T020000
RRULE:FREQ=YEARLY;BYDAY=-1SU;BYMONTH=3
TZNAME:CEST
TZOFFSETFROM:+0100
TZOFFSETTO:+0200
END:DAYLIGHT
END:VTIMEZONE
BEGIN:VEVENT
UID:pretix-M18-gemma-zukunft-37216@ticket.wien.gv.at
DTSTART;TZID=Europe/Vienna:20230818T090000
DTEND;TZID=Europe/Vienna:20230818T110000
DESCRIPTION:Tickets: https://ticket.wien.gv.at/M18/gemma-zukunft/37216/\nVe
 ranstalter: MA 18 Stadtentwicklung und Stadtplanung
DTSTAMP:20260426T014358Z
LOCATION:Treffpunkt: Baubüro Stadt Wien – Keißlergasse / Ecke Bergmille
 rgasse\, 1140 Wien (hinter dem Bauhaus Hütteldorf)
SUMMARY:Westausfahrt - Brückeninstandsetzung der Nikolaitragwerke
END:VEVENT
END:VCALENDAR
