BEGIN:VCALENDAR
VERSION:2.0
PRODID:-//pretix//pretix-PROD_Wien//
BEGIN:VTIMEZONE
TZID:Europe/Vienna
BEGIN:STANDARD
DTSTART:20001029T030000
RRULE:FREQ=YEARLY;BYDAY=-1SU;BYMONTH=10
TZNAME:CET
TZOFFSETFROM:+0200
TZOFFSETTO:+0100
END:STANDARD
BEGIN:DAYLIGHT
DTSTART:20000326T020000
RRULE:FREQ=YEARLY;BYDAY=-1SU;BYMONTH=3
TZNAME:CEST
TZOFFSETFROM:+0100
TZOFFSETTO:+0200
END:DAYLIGHT
END:VTIMEZONE
BEGIN:VEVENT
UID:pretix-M17-tgfqv-3-0@ticket.wien.gv.at
DTSTART;TZID=Europe/Vienna:20260615T084500
DTEND;TZID=Europe/Vienna:20260615T130000
DESCRIPTION:Tickets: https://ticket.wien.gv.at/M17/tgfqv-3/\nEinlass: 15.06
 .2026 08:45\nVeranstalter: Integration und Diversität - Stadt Wien
DTSTAMP:20260425T181628Z
LOCATION:Amtshaus Favoriten\, Keplerplatz 5\, Festsaal im 1. Stock\, 1100 W
 ien\, Barrierefreier Zugang mit Aufzug: Gudrunstraße 128 (Hofeinfahrt)
SUMMARY:Werkstatt.Wien – TikTok (De)radikalisiert?
END:VEVENT
END:VCALENDAR
