BEGIN:VCALENDAR
VERSION:2.0
PRODID:-//pretix//pretix-PROD_Wien//
BEGIN:VTIMEZONE
TZID:Europe/Vienna
BEGIN:STANDARD
DTSTART:20001029T030000
RRULE:FREQ=YEARLY;BYDAY=-1SU;BYMONTH=10
TZNAME:CET
TZOFFSETFROM:+0200
TZOFFSETTO:+0100
END:STANDARD
BEGIN:DAYLIGHT
DTSTART:20000326T020000
RRULE:FREQ=YEARLY;BYDAY=-1SU;BYMONTH=3
TZNAME:CEST
TZOFFSETFROM:+0100
TZOFFSETTO:+0200
END:DAYLIGHT
END:VTIMEZONE
BEGIN:VEVENT
UID:pretix-M13STB-ze8d9-0@ticket.wien.gv.at
DTSTART;TZID=Europe/Vienna:20260318T150000
DTEND;TZID=Europe/Vienna:20260318T160000
DESCRIPTION:Tickets: https://ticket.wien.gv.at/M13STB/ze8d9/\nVeranstalter:
  Stadt Wien - Büchereien
DTSTAMP:20260423T065933Z
LOCATION:Hauptbücherei am Gürtel\, 3. Obergeschoss\, Veranstaltungssaal
SUMMARY:Wir begrüßen den Frühling mit Amoo (Onkel) Noruz! | Mit Mercede
  Ameri
END:VEVENT
END:VCALENDAR
